BEGIN:VCALENDAR
VERSION:2.0
PRODID:-//Forgiven Warrior - ECPv6.10.1.1//NONSGML v1.0//EN
CALSCALE:GREGORIAN
METHOD:PUBLISH
X-ORIGINAL-URL:https://forgivenwarrior.org
X-WR-CALDESC:Events for Forgiven Warrior
REFRESH-INTERVAL;VALUE=DURATION:PT1H
X-Robots-Tag:noindex
X-PUBLISHED-TTL:PT1H
BEGIN:VTIMEZONE
TZID:UTC
BEGIN:STANDARD
TZOFFSETFROM:+0000
TZOFFSETTO:+0000
TZNAME:UTC
DTSTART:20240101T000000
END:STANDARD
END:VTIMEZONE
BEGIN:VEVENT
DTSTART;VALUE=DATE:20240121
DTEND;VALUE=DATE:20240122
DTSTAMP:20260422T220558
CREATED:20231205T152554Z
LAST-MODIFIED:20231205T153054Z
UID:14891-1705795200-1705881599@forgivenwarrior.org
SUMMARY:2024 Giosi WOD
DESCRIPTION:The giosi wod is a benchmark fundraiser that helps forgiven warrior carry on the legacy of Jeff giosi. 				\n				\n				\n				\n									The Giosi WOD is a fitness competition that serves as the benchmark fundraiser for Forgiven Warrior. It is both an in-person local event\, as well as an online national leaderboard. Last year\, hundreds of individuals participated at gyms all over the country and world\, showing Jeff’s remarkable impact and reach. 								\n				\n					\n		\n					\n		\n				\n						\n					\n			\n						\n				\n									\n					\n						\n									MORE INFO
URL:https://forgivenwarrior.org/event/forgiven-warrior-launch-copy-copy-2/
LOCATION:CrossFit Morgantown\, 1065 Green Bag Road Suite A\, Morgantown\, WV\, 26505\, United States
CATEGORIES:Free,Fundraiser,Giosi WOD,Volunteer Opportunity,Wee Warriors
ATTACH;FMTTYPE=image/jpeg:https://forgivenwarrior.org/wp-content/uploads/2023/12/2024-Giosi-WOD-Individual-Social-Media-Post-2.jpg
END:VEVENT
END:VCALENDAR